BEGIN:VCALENDAR
VERSION:2.0
PRODID:-//Philadelphia Classical School - ECPv6.15.13.1//NONSGML v1.0//EN
CALSCALE:GREGORIAN
METHOD:PUBLISH
X-ORIGINAL-URL:https://philaclassical.org
X-WR-CALDESC:Events for Philadelphia Classical School
REFRESH-INTERVAL;VALUE=DURATION:PT1H
X-Robots-Tag:noindex
X-PUBLISHED-TTL:PT1H
BEGIN:VTIMEZONE
TZID:America/New_York
BEGIN:DAYLIGHT
TZOFFSETFROM:-0500
TZOFFSETTO:-0400
TZNAME:EDT
DTSTART:20240310T070000
END:DAYLIGHT
BEGIN:STANDARD
TZOFFSETFROM:-0400
TZOFFSETTO:-0500
TZNAME:EST
DTSTART:20241103T060000
END:STANDARD
BEGIN:DAYLIGHT
TZOFFSETFROM:-0500
TZOFFSETTO:-0400
TZNAME:EDT
DTSTART:20250309T070000
END:DAYLIGHT
BEGIN:STANDARD
TZOFFSETFROM:-0400
TZOFFSETTO:-0500
TZNAME:EST
DTSTART:20251102T060000
END:STANDARD
BEGIN:DAYLIGHT
TZOFFSETFROM:-0500
TZOFFSETTO:-0400
TZNAME:EDT
DTSTART:20260308T070000
END:DAYLIGHT
BEGIN:STANDARD
TZOFFSETFROM:-0400
TZOFFSETTO:-0500
TZNAME:EST
DTSTART:20261101T060000
END:STANDARD
END:VTIMEZONE
BEGIN:VEVENT
DTSTART;TZID=America/New_York:20250516T183000
DTEND;TZID=America/New_York:20250516T203000
DTSTAMP:20260421T101844
CREATED:20241015T205842Z
LAST-MODIFIED:20250424T193747Z
UID:6087-1747420200-1747427400@philaclassical.org
SUMMARY:Parent Enrichment Night with Dr. Leonard Sax
DESCRIPTION:We know that parents’ work in raising their children is the most challenging yet most important responsibility God has given them. For this reason\, PCS partners with parents in their children’s formation\, but we also directly support them through events like the spring Parent Enrichment Night. Each year\, we bring in a respected speaker and make it accessible for PCS parents. We also gladly welcome other members of our community.  \nThis year\, we are pleased to welcome Dr. Leonard Sax for our Parent Enrichment Night! Dr. Sax has been a practicing pediatrician and writer for 35 years. He also holds a Ph.D. in psychology and has valuable insights on child formation and parenting\, including teaching on how persuasive technology shapes children. His books have appeared on the New York Times bestseller list\, and he has shared his guidance on major media outlets.  \nHis practical advice\, rooted in research and clinical experience\, can bless our parents as they seek to make critical parenting decisions. We invite the broader community to attend and benefit from his counsel.  \nRSVP here to attend this free event! 
URL:https://philaclassical.org/event/parent-enrichment-night-with-dr-leonard-sax/
LOCATION:Philadelphia Classical School\, 3301 S 20th St.\, Philadelphia\, PA\, 19145\, United States
END:VEVENT
BEGIN:VEVENT
DTSTART;VALUE=DATE:20250522
DTEND;VALUE=DATE:20250523
DTSTAMP:20260421T101844
CREATED:20170922T144432Z
LAST-MODIFIED:20240919T162359Z
UID:2146-1747872000-1747958399@philaclassical.org
SUMMARY:Theater Festival
DESCRIPTION:Students prepare for months for the Theater Festival. Each grade puts on their own short play for family and friends. This allows even our youngest students opportunities for featured roles and practice in public speaking. The whole school works together to make props and sets. We look forward to it!
URL:https://philaclassical.org/event/theater-festival/
ATTACH;FMTTYPE=image/png:https://philaclassical.org/wp-content/uploads/2018/10/Events-Theater-Fest.png
END:VEVENT
BEGIN:VEVENT
DTSTART;TZID=America/New_York:20250530T064500
DTEND;TZID=America/New_York:20250530T214500
DTSTAMP:20260421T101844
CREATED:20241119T203101Z
LAST-MODIFIED:20241119T203446Z
UID:6106-1748587500-1748641500@philaclassical.org
SUMMARY:PCS @ The Phillies
DESCRIPTION:200 PCS family members and staff enjoyed a walk-off win at the Phillies to close last school year! We’re hoping for another exciting game and a beautiful night. We encourage you to plan to join us for this year’s fun. \n 
URL:https://philaclassical.org/event/pcs-the-phillies/
END:VEVENT
END:VCALENDAR